BEGIN:VCALENDAR
VERSION:2.0
PRODID:-//Capital Area Employment 1st Coalition - ECPv6.15.20//NONSGML v1.0//EN
CALSCALE:GREGORIAN
METHOD:PUBLISH
X-WR-CALNAME:Capital Area Employment 1st Coalition
X-ORIGINAL-URL:https://capitalareaemp1st.org
X-WR-CALDESC:Events for Capital Area Employment 1st Coalition
REFRESH-INTERVAL;VALUE=DURATION:PT1H
X-Robots-Tag:noindex
X-PUBLISHED-TTL:PT1H
BEGIN:VTIMEZONE
TZID:America/New_York
BEGIN:DAYLIGHT
TZOFFSETFROM:-0500
TZOFFSETTO:-0400
TZNAME:EDT
DTSTART:20250309T070000
END:DAYLIGHT
BEGIN:STANDARD
TZOFFSETFROM:-0400
TZOFFSETTO:-0500
TZNAME:EST
DTSTART:20251102T060000
END:STANDARD
BEGIN:DAYLIGHT
TZOFFSETFROM:-0500
TZOFFSETTO:-0400
TZNAME:EDT
DTSTART:20260308T070000
END:DAYLIGHT
BEGIN:STANDARD
TZOFFSETFROM:-0400
TZOFFSETTO:-0500
TZNAME:EST
DTSTART:20261101T060000
END:STANDARD
BEGIN:DAYLIGHT
TZOFFSETFROM:-0500
TZOFFSETTO:-0400
TZNAME:EDT
DTSTART:20270314T070000
END:DAYLIGHT
BEGIN:STANDARD
TZOFFSETFROM:-0400
TZOFFSETTO:-0500
TZNAME:EST
DTSTART:20271107T060000
END:STANDARD
END:VTIMEZONE
BEGIN:VEVENT
DTSTART;TZID=America/New_York:20260512T123000
DTEND;TZID=America/New_York:20260512T143000
DTSTAMP:20260423T064325
CREATED:20250903T215055Z
LAST-MODIFIED:20260112T204742Z
UID:19707-1778589000-1778596200@capitalareaemp1st.org
SUMMARY:Capital Area Employment 1st Coalition Meeting - May 12\, 2026
DESCRIPTION:This meeting will be held in the Meadow Room.
URL:https://capitalareaemp1st.org/calendar/capital-area-employment-1st-coalition-meeting-4/
LOCATION:Capital Area Intermediate Unit (CAIU)\, 55 Miller St\, Enola\, PA\, 17025
CATEGORIES:Meeting
ATTACH;FMTTYPE=image/jpeg:https://capitalareaemp1st.org/wp-content/uploads/2014/03/mac.jpg
END:VEVENT
END:VCALENDAR